BEGIN:VCALENDAR
VERSION:2.0
PRODID:-//Saint Louis BWorks//NONSGML v1.0//EN
CALSCALE:GREGORIAN
METHOD:PUBLISH
X-WR-CALNAME:Saint Louis BWorks
X-ORIGINAL-URL:https://www.bworks.org
X-WR-CALDESC:Events for Saint Louis BWorks
X-WR-TIMEZONE:America/Chicago
BEGIN:VEVENT
DTSTART;VALUE=DATE-TIME:20160430T100000
DTEND;VALUE=DATE-TIME:20160430T150000
DTSTAMP:20260420T083452
CREATED:20160222T095400
LAST-MODIFIED:20160222T095400
UID:6967@https://www.bworks.org
SUMMARY:Sears Parking Lot at Chesterfield Mall Bike Drive - Saturday, April 30 from 10 AM to 3 PM
DESCRIPTION:Sears at Chesterfield Mall Bike Drive - Saturday\, April 30 from 10 AM to 3 PM    St. Louis Bicycle Works is partnering with Chesterfield Mall at the Sears Parking Lot to host a bicycle drive to collect adult and children’s bicycles. Your donations will benefit children and young adults in the St. Louis area by giving them an opportunity to receive a Bike. Bicycle Works provided bicycles to youth between the ages of 7 and 17 who successfully complete our Earn-A-Bike program\, and needs your help to continue our efforts to provide positive outcomes in our community.    Locations: Sears Parking Lot at Chesterfield Mall\, at Chesterfield Mall at the Sears Parking Lot.
LOCATION:
URL:https://www.bworks.org/event/sears-parking-lot-at-chesterfield-mall-bike-drive-saturday-april-30-from-10-am-to-3-pm/
END:VEVENT
END:VCALENDAR